BEGIN:VCALENDAR
VERSION:2.0
X-WR-CALNAME: One More Dollar
PRODID:GIGPRESS 2.0 WORDPRESS PLUGIN
CALSCALE:GREGORIAN
X-WR-TIMEZONE:Etc/GMT
METHOD:PUBLISH
BEGIN:VTIMEZONE
TZID:GMT
BEGIN:STANDARD
DTSTART:20071028T010000
TZOFFSETTO:+0000
TZOFFSETFROM:+0000
END:STANDARD
END:VTIMEZONE
BEGIN:VEVENT
SUMMARY:One More Dollar at Earth Day Festival - Springfield MO
DESCRIPTION:Price: 25. Notes: General Admission Tickets are for the full day of the Festival. All Ages
LOCATION:Earth Day Festival - Springfield MO\, 635 E Trafficway St\,\, Springfield\,\, US
UID:20260425T223000Z-85-contact@onemoredollarband.com
URL:https://onemoredollarband.com/2026/04/04-25-26-one-more-dollar-at-earth-day-festival-springfield-mo-in-springfield/
DTSTART;VALUE=DATE-TIME;TZID=GMT:20260425T223000Z
DTEND;VALUE=DATE-TIME;TZID=GMT:20260425T223000Z
DTSTAMP:20260424T120314Z
END:VEVENT
BEGIN:VEVENT
SUMMARY:One More Dollar at Boat Town Brewing Company
DESCRIPTION:All Ages
LOCATION:Boat Town Brewing Company\, 214 W Commercial Street\, Lebanon\, US
UID:20260502T000000Z-86-contact@onemoredollarband.com
URL:https://onemoredollarband.com/2026/04/05-01-26-one-more-dollar-at-boat-town-brewing-company-in-lebanon/
DTSTART;VALUE=DATE-TIME;TZID=GMT:20260502T000000Z
DTEND;VALUE=DATE-TIME;TZID=GMT:20260502T000000Z
DTSTAMP:20260424T120314Z
END:VEVENT
BEGIN:VEVENT
SUMMARY:One More Dollar at Baker Creek Heirloom Seed Company
DESCRIPTION:Price: 10.00. Notes: General admission tickets for whole festival period. Multiple shows throughout the day. All Ages
LOCATION:Baker Creek Heirloom Seed Company\, 2278 Baker Creek Road\, Mansfield\, US
UID:20260503T150000Z-87-contact@onemoredollarband.com
URL:https://onemoredollarband.com/2026/04/05-03-26-one-more-dollar-at-baker-creek-heirloom-seed-company-in-mansfield/
DTSTART;VALUE=DATE-TIME;TZID=GMT:20260503T150000Z
DTEND;VALUE=DATE-TIME;TZID=GMT:20260503T150000Z
DTSTAMP:20260424T120314Z
END:VEVENT
BEGIN:VEVENT
SUMMARY:One More Dollar at 7 C's Winery
DESCRIPTION:Notes: Mothers Day Celebration! All Ages
LOCATION:7 C's Winery\, 502 E 560th Road\,\, Walnut Grove\,\, US
UID:20260510T190000Z-88-contact@onemoredollarband.com
URL:https://onemoredollarband.com/2026/04/05-10-26-one-more-dollar-at-7-cs-winery-in-walnut-grove/
DTSTART;VALUE=DATE-TIME;TZID=GMT:20260510T190000Z
DTEND;VALUE=DATE-TIME;TZID=GMT:20260510T190000Z
DTSTAMP:20260424T120314Z
END:VEVENT
BEGIN:VEVENT
SUMMARY:One More Dollar at Pomme De Ritas
DESCRIPTION:All Ages
LOCATION:Pomme De Ritas\, 24474 Hwy 254\, Hermitage\, US
UID:20260525T000000Z-89-contact@onemoredollarband.com
URL:https://onemoredollarband.com/2026/04/05-24-26-one-more-dollar-at-pomme-de-ritas-in-hermitage/
DTSTART;VALUE=DATE-TIME;TZID=GMT:20260525T000000Z
DTEND;VALUE=DATE-TIME;TZID=GMT:20260525T000000Z
DTSTAMP:20260424T120314Z
END:VEVENT
BEGIN:VEVENT
SUMMARY:One More Dollar at 1776 Bar & Grill
DESCRIPTION:All Ages
LOCATION:1776 Bar & Grill\, 9051 US Highway 54\, Mack’s Creek\, US
UID:20260531T200000Z-90-contact@onemoredollarband.com
URL:https://onemoredollarband.com/2026/04/05-31-26-one-more-dollar-at-1776-bar-grill-in-macks-creek/
DTSTART;VALUE=DATE-TIME;TZID=GMT:20260531T200000Z
DTEND;VALUE=DATE-TIME;TZID=GMT:20260531T200000Z
DTSTAMP:20260424T120314Z
END:VEVENT
END:VCALENDAR